BEGIN:VCALENDAR
VERSION:2.0
PRODID:-//Tukios.com/
BEGIN:VEVENT
UID:38515396-9703-4361-ad48-16ad202ce43c@obituaries.kyperfuneralhome.com
DTSTAMP:20260422T165458Z
DTSTART:20260423T160000Z
DTEND:20260423T170000Z
SUMMARY:Funeral Service
DESCRIPTION:
URL:https://obituaries.kyperfuneralhome.com/obituaries/william-branning
LOCATION:Eloise B. Kyper Funeral Home, Inc. 2702 Mt Royal Blvd  Glenshaw 
	PA 15116
GEO:40.5399814;-79.9703302
END:VEVENT
END:VCALENDAR