BEGIN:VCALENDAR
VERSION:2.0
PRODID:-//Tukios.com/
BEGIN:VEVENT
UID:524aa395-bd01-4fcc-a0f2-3f994374a7f8@obituaries.kyperfuneralhome.com
DTSTAMP:20260421T174754Z
DTSTART:20260428T143000Z
DTEND:20260428T153000Z
SUMMARY:Mass
DESCRIPTION:Please meet at church.
URL:https://obituaries.kyperfuneralhome.com/obituaries/eric-omalley
LOCATION: 2510 Middle Rd  Glenshaw PA 15116
GEO:40.5547791;-79.9319214
END:VEVENT
END:VCALENDAR