BEGIN:VCALENDAR
VERSION:2.0
PRODID:-//Tukios.com/
BEGIN:VEVENT
UID:bc34f4ee-e7ae-49e5-9ba2-0d7cbe5baecf@obituaries.kyperfuneralhome.com
DTSTAMP:20260421T174321Z
DTSTART:20260427T190000Z
DTEND:20260427T230000Z
SUMMARY:Visitation
DESCRIPTION:
URL:https://obituaries.kyperfuneralhome.com/obituaries/eric-omalley
LOCATION: 2702 Mt Royal Blvd  Glenshaw PA 15116
GEO:40.5399814;-79.9703302
END:VEVENT
END:VCALENDAR